BEGIN:VCALENDAR
VERSION:2.0
PRODID:-//Dementia Care Solutions - ECPv6.15.11//NONSGML v1.0//EN
CALSCALE:GREGORIAN
METHOD:PUBLISH
X-WR-CALNAME:Dementia Care Solutions
X-ORIGINAL-URL:https://dementiacaresolutions.org
X-WR-CALDESC:Events for Dementia Care Solutions
REFRESH-INTERVAL;VALUE=DURATION:PT1H
X-Robots-Tag:noindex
X-PUBLISHED-TTL:PT1H
BEGIN:VTIMEZONE
TZID:America/Chicago
BEGIN:DAYLIGHT
TZOFFSETFROM:-0600
TZOFFSETTO:-0500
TZNAME:CDT
DTSTART:20240310T080000
END:DAYLIGHT
BEGIN:STANDARD
TZOFFSETFROM:-0500
TZOFFSETTO:-0600
TZNAME:CST
DTSTART:20241103T070000
END:STANDARD
BEGIN:DAYLIGHT
TZOFFSETFROM:-0600
TZOFFSETTO:-0500
TZNAME:CDT
DTSTART:20250309T080000
END:DAYLIGHT
BEGIN:STANDARD
TZOFFSETFROM:-0500
TZOFFSETTO:-0600
TZNAME:CST
DTSTART:20251102T070000
END:STANDARD
BEGIN:DAYLIGHT
TZOFFSETFROM:-0600
TZOFFSETTO:-0500
TZNAME:CDT
DTSTART:20260308T080000
END:DAYLIGHT
BEGIN:STANDARD
TZOFFSETFROM:-0500
TZOFFSETTO:-0600
TZNAME:CST
DTSTART:20261101T070000
END:STANDARD
END:VTIMEZONE
BEGIN:VEVENT
DTSTART;TZID=America/Chicago:20250313T140000
DTEND;TZID=America/Chicago:20250313T190000
DTSTAMP:20260423T060542
CREATED:20250206T163702Z
LAST-MODIFIED:20250206T163702Z
UID:2677-1741874400-1741892400@dementiacaresolutions.org
SUMMARY:3rd Annual **FREE** Brain Awareness Event
DESCRIPTION:Take Charge of Your Brain – It’s Kind of a Big Deal\nThe 3rd Annual Brain Awareness takes place during the annual global campaign. It aims to promote public interest and support for brain science. Every March\, partners organize various activities and provide resources to share the wonders of the brain and demonstrate the impact of brain science on our everyday lives.\nThis year we are hosting our **free** 3rd Annual Brain Awareness Event at the Brown County STEM Innovation Center.\n\nEvent Timeline:\n\n2pm: Doors Open & Registration\n2:30pm-3:15pm: Celestial Sound Meditation\n3:30pm-4:15pm: Dementia Care Solutions & the Brain Center present “Our Aging Brains: What’s Typical and When to be Concerned”\n4:15pm-4:45pm: Movement Break with Rock Steady Boxing\n4:45pm-5:30pm: Cooking Demonstration with The Farmacy\n5:30pm-6:00pm: Movement Break with Empowered by Movement\n6:15pm-7pm: Treble Alliance – Irish Dancers\n\n\nWe also are excited to welcome back Grounded Cafe Food Truck!\nFree event for the entire family!\nFlyerFacebook Event\n\nRSVP
URL:https://dementiacaresolutions.org/event/3rd-annual-free-brain-awareness-event/
LOCATION:Brown County STEM Innovation Center\, 2019 Technology Dr\, Green Bay\, WI\, 54311\, United States
ATTACH;FMTTYPE=image/png:https://dementiacaresolutions.org/wp-content/uploads/2025/02/031325_BrainAwarenessEvent.png
END:VEVENT
END:VCALENDAR