BEGIN:VCALENDAR
VERSION:2.0
PRODID:-//Dementia Care Solutions - ECPv6.15.11//NONSGML v1.0//EN
CALSCALE:GREGORIAN
METHOD:PUBLISH
X-ORIGINAL-URL:https://dementiacaresolutions.org
X-WR-CALDESC:Events for Dementia Care Solutions
REFRESH-INTERVAL;VALUE=DURATION:PT1H
X-Robots-Tag:noindex
X-PUBLISHED-TTL:PT1H
BEGIN:VTIMEZONE
TZID:America/Chicago
BEGIN:DAYLIGHT
TZOFFSETFROM:-0600
TZOFFSETTO:-0500
TZNAME:CDT
DTSTART:20240310T080000
END:DAYLIGHT
BEGIN:STANDARD
TZOFFSETFROM:-0500
TZOFFSETTO:-0600
TZNAME:CST
DTSTART:20241103T070000
END:STANDARD
BEGIN:DAYLIGHT
TZOFFSETFROM:-0600
TZOFFSETTO:-0500
TZNAME:CDT
DTSTART:20250309T080000
END:DAYLIGHT
BEGIN:STANDARD
TZOFFSETFROM:-0500
TZOFFSETTO:-0600
TZNAME:CST
DTSTART:20251102T070000
END:STANDARD
BEGIN:DAYLIGHT
TZOFFSETFROM:-0600
TZOFFSETTO:-0500
TZNAME:CDT
DTSTART:20260308T080000
END:DAYLIGHT
BEGIN:STANDARD
TZOFFSETFROM:-0500
TZOFFSETTO:-0600
TZNAME:CST
DTSTART:20261101T070000
END:STANDARD
END:VTIMEZONE
BEGIN:VEVENT
DTSTART;VALUE=DATE:20250505
DTEND;VALUE=DATE:20250507
DTSTAMP:20260421T025552
CREATED:20250425T154109Z
LAST-MODIFIED:20250507T154139Z
UID:2995-1746403200-1746575999@dementiacaresolutions.org
SUMMARY:WI DELLS - Wisconsin State Conference
DESCRIPTION:Annual State Conference\nMonday\, May 5 from 8am-6pm and Tuesday\, May 6 from at 7-2pm \nHeld annually\, the Wisconsin State Conference attracts hundreds of professional and family care providers and is one of the largest and most comprehensive statewide conferences dedicated to Alzheimer’s and dementia. \nJoin us for two days packed of networking and education opportunities. \nSheri with Dementia Care Solutions will be presenting Workshop 104 and a Panel Member of Workshop 304. \nWorkshop 104 (Intermediate) Get Curious! Find Meaning Behind Behaviors in Dementia\nMonday\, May 5th from 10:30-11:30am \nWe are NOT behavior stoppers! We are UNMET NEEDS meet-ers. We all express our needs through words or actions. When dementia is in the picture\, it can be harder to find the right\, or any\, words to communicate unmet needs. As care partners\, we need to get curious about what people living with brain change are trying to express. What unmet need can we help to meet? \nWorkshop 304 Panel of Experts: Mastering the Skill in Asking for Help\nMonday\, May 5th from 3:30-4:30pm \nAsking for help as a caregiver is not easy. Let this team of experts give you some tips on mastering the skill in asking for help. \nView the full Agenda\nLearn More and RSVP Today!\n 
URL:https://dementiacaresolutions.org/event/wi-dells-wisconsin-state-conference/
LOCATION:Kalahari Resorts & Conventions – Wisconsin Dells\, 1305 Kalahari Dr\, Wisconsin Dells\, WI\, 53965\, United States
CATEGORIES:Speaking Engagements
ATTACH;FMTTYPE=image/png:https://dementiacaresolutions.org/wp-content/uploads/2025/04/0425_04-02.png
END:VEVENT
END:VCALENDAR