BEGIN:VCALENDAR
VERSION:2.0
PRODID:-//Dementia Care Solutions - ECPv6.15.11//NONSGML v1.0//EN
CALSCALE:GREGORIAN
METHOD:PUBLISH
X-ORIGINAL-URL:https://dementiacaresolutions.org
X-WR-CALDESC:Events for Dementia Care Solutions
REFRESH-INTERVAL;VALUE=DURATION:PT1H
X-Robots-Tag:noindex
X-PUBLISHED-TTL:PT1H
BEGIN:VTIMEZONE
TZID:America/Chicago
BEGIN:DAYLIGHT
TZOFFSETFROM:-0600
TZOFFSETTO:-0500
TZNAME:CDT
DTSTART:20240310T080000
END:DAYLIGHT
BEGIN:STANDARD
TZOFFSETFROM:-0500
TZOFFSETTO:-0600
TZNAME:CST
DTSTART:20241103T070000
END:STANDARD
BEGIN:DAYLIGHT
TZOFFSETFROM:-0600
TZOFFSETTO:-0500
TZNAME:CDT
DTSTART:20250309T080000
END:DAYLIGHT
BEGIN:STANDARD
TZOFFSETFROM:-0500
TZOFFSETTO:-0600
TZNAME:CST
DTSTART:20251102T070000
END:STANDARD
BEGIN:DAYLIGHT
TZOFFSETFROM:-0600
TZOFFSETTO:-0500
TZNAME:CDT
DTSTART:20260308T080000
END:DAYLIGHT
BEGIN:STANDARD
TZOFFSETFROM:-0500
TZOFFSETTO:-0600
TZNAME:CST
DTSTART:20261101T070000
END:STANDARD
END:VTIMEZONE
BEGIN:VEVENT
DTSTART;TZID=America/Chicago:20250507T160000
DTEND;TZID=America/Chicago:20250507T173000
DTSTAMP:20260421T025551
CREATED:20250306T150906Z
LAST-MODIFIED:20250306T150948Z
UID:2852-1746633600-1746639000@dementiacaresolutions.org
SUMMARY:GREEN BAY - Care Partner Support Series (Week 5)
DESCRIPTION:FREE 5-Week Series \nCare Partner Support Series\n\nFor people caring for someone living with dementia\n90 Minute Sessions * Once a Week * For Five Weeks \nWednesdays\, April 9th – May 7th\n4 – 5:30 PM\nPlease arrive 10 minutes early. \nHeld at: \nHome Instead\n901 Anderson Dr.\, Green Bay\, WI 54304 \nSessions Include: \n\nVideo clips featuring Teepa Snow\nInteractive activities and discussions\nPost-session resources\n\nWeekly Topics Include: \n\nUnderstanding and accepting Dementia\nCommon brain changes and supportive techniques\nSensory changes – increasing awareness and understanding impact\nPerson-centered problem solving\nTechniques to reduce distress\n\nPlease Know: \n\nThis is a series and each session builds upon the previous one. It is best to attend all 5 sessions.\nAttendees are encouraged to share what they have learned about dementia and caregiving.\nAll attendees will be asked to keep personal stories they hear confidential.\n\n  \nFREE thanks to the generous sponsorship of Home Instead. \n  \nFlyer\nRSVP with Home Instead:\nCall Denise at (920) 965-1600 or Email Denise.Stodola@homeinstead.com
URL:https://dementiacaresolutions.org/event/green-bay-care-partner-support-series-week-5/
LOCATION:Home Instead\, 901 Anderson Dr\, Green Bay\, WI\, 54304\, United States
ATTACH;FMTTYPE=image/png:https://dementiacaresolutions.org/wp-content/uploads/2025/03/0425_CarePartnerSupportSeries_HomeInstead_CORRECTEDSF.png
END:VEVENT
END:VCALENDAR