BEGIN:VCALENDAR
VERSION:2.0
PRODID:-//Dementia Care Solutions - ECPv6.15.11//NONSGML v1.0//EN
CALSCALE:GREGORIAN
METHOD:PUBLISH
X-ORIGINAL-URL:https://dementiacaresolutions.org
X-WR-CALDESC:Events for Dementia Care Solutions
REFRESH-INTERVAL;VALUE=DURATION:PT1H
X-Robots-Tag:noindex
X-PUBLISHED-TTL:PT1H
BEGIN:VTIMEZONE
TZID:America/Chicago
BEGIN:DAYLIGHT
TZOFFSETFROM:-0600
TZOFFSETTO:-0500
TZNAME:CDT
DTSTART:20240310T080000
END:DAYLIGHT
BEGIN:STANDARD
TZOFFSETFROM:-0500
TZOFFSETTO:-0600
TZNAME:CST
DTSTART:20241103T070000
END:STANDARD
BEGIN:DAYLIGHT
TZOFFSETFROM:-0600
TZOFFSETTO:-0500
TZNAME:CDT
DTSTART:20250309T080000
END:DAYLIGHT
BEGIN:STANDARD
TZOFFSETFROM:-0500
TZOFFSETTO:-0600
TZNAME:CST
DTSTART:20251102T070000
END:STANDARD
BEGIN:DAYLIGHT
TZOFFSETFROM:-0600
TZOFFSETTO:-0500
TZNAME:CDT
DTSTART:20260308T080000
END:DAYLIGHT
BEGIN:STANDARD
TZOFFSETFROM:-0500
TZOFFSETTO:-0600
TZNAME:CST
DTSTART:20261101T070000
END:STANDARD
END:VTIMEZONE
BEGIN:VEVENT
DTSTART;TZID=America/Chicago:20250514T140000
DTEND;TZID=America/Chicago:20250514T150000
DTSTAMP:20260421T025551
CREATED:20250131T015834Z
LAST-MODIFIED:20250131T020613Z
UID:2658-1747231200-1747234800@dementiacaresolutions.org
SUMMARY:BURLINGTON- Progression of Dementia (3-Part Series\, #2)
DESCRIPTION:Part 2: Progression of Dementia – What Skills Remain \nWed\, May 14 from 2-3PM \nLearn a new and improved approach to understanding dementia progression through focusing on what skills remain\, as opposed to skills lost. Gain insight into what a person with memory loss experiences and discover how to better support your loved one. \nFlyer\n\nPart 3: The Language of Dementia and Finding Success: The Fish Approach\nWed\, June 11 from 2-3PM \n\n\n\n\n\n\nAs care partners\, we may experience communication snags with our loved one with dementia. Together we will untangle these challenging situations and explore new tools to help in your caregiving journey. \n\n\n\n\n\n\n\n\n\n\n\nFlyer\n\n\n\n\n\n——-Free community series sponsored by: Oak Park Place Burlington \nCannot attend all three? By RSVPing\, you are signed up for all three events in this series\, but you are not required to attend all of them. \nRSVP with Oak Park Place Burlington:\nCall (262) 758-6782 or Email burlingtonsales@oakparkplace.com \n\nPart 1: Our Aging Brain: What is Typical? When to be Concerned?\nWed\, Apr 9 from 2-3PM \nWhat is normal and when should we be concerned?\nIf thinking and memory problems arise\, can it be something reversible? YES! \nJoin us to find out more about the causes of these symptoms\, what you can do to improve them\, and how to know if it’s something more serious. \nFlyer
URL:https://dementiacaresolutions.org/event/burlington-our-aging-brain-3-part-series-2/
LOCATION:Oak Park Place – Burlington\, 1700 S. Teut Road\, Burlington\, WI\, 53105\, United States
ATTACH;FMTTYPE=image/png:https://dementiacaresolutions.org/wp-content/uploads/2025/01/051425_OakParkBurlington_Progression.png
END:VEVENT
END:VCALENDAR