BEGIN:VCALENDAR
VERSION:2.0
PRODID:-//Dementia Care Solutions - ECPv6.15.11//NONSGML v1.0//EN
CALSCALE:GREGORIAN
METHOD:PUBLISH
X-ORIGINAL-URL:https://dementiacaresolutions.org
X-WR-CALDESC:Events for Dementia Care Solutions
REFRESH-INTERVAL;VALUE=DURATION:PT1H
X-Robots-Tag:noindex
X-PUBLISHED-TTL:PT1H
BEGIN:VTIMEZONE
TZID:America/Chicago
BEGIN:DAYLIGHT
TZOFFSETFROM:-0600
TZOFFSETTO:-0500
TZNAME:CDT
DTSTART:20240310T080000
END:DAYLIGHT
BEGIN:STANDARD
TZOFFSETFROM:-0500
TZOFFSETTO:-0600
TZNAME:CST
DTSTART:20241103T070000
END:STANDARD
BEGIN:DAYLIGHT
TZOFFSETFROM:-0600
TZOFFSETTO:-0500
TZNAME:CDT
DTSTART:20250309T080000
END:DAYLIGHT
BEGIN:STANDARD
TZOFFSETFROM:-0500
TZOFFSETTO:-0600
TZNAME:CST
DTSTART:20251102T070000
END:STANDARD
BEGIN:DAYLIGHT
TZOFFSETFROM:-0600
TZOFFSETTO:-0500
TZNAME:CDT
DTSTART:20260308T080000
END:DAYLIGHT
BEGIN:STANDARD
TZOFFSETFROM:-0500
TZOFFSETTO:-0600
TZNAME:CST
DTSTART:20261101T070000
END:STANDARD
END:VTIMEZONE
BEGIN:VEVENT
DTSTART;TZID=America/Chicago:20250603T130000
DTEND;TZID=America/Chicago:20250603T140000
DTSTAMP:20260421T005203
CREATED:20250507T172536Z
LAST-MODIFIED:20250523T181859Z
UID:3042-1748955600-1748959200@dementiacaresolutions.org
SUMMARY:SHEBOYGAN - Navigate the Difficult Conversations with Compassion and Clarity
DESCRIPTION:Navigate the Difficult Conversations with Compassion and Clarity\nTues\, June 3\, 2025 from 1-2pm | Refreshments and tours offered. \n“I’m worried about decisions my wife is making\, but when I try to talk to her it goes all wrong.” \nDiscover practical strategies for how to have sensitive discussions – from address safety concerns to changes in routine to difficult emotions – with empathy\, and patience. Learn how to manage misunderstandings and foster connection even as memories fade. \n\n\n\n\n\n\n\n\n\n\n\n\nFree community series sponsored by: Countryside Manor \n*NOTE: Audrey’s last day with Dementia Care Solutions was Fri\, May 23\, but rest assured\, the event is on and we will still be presenting! \nRSVP with Alex at Countryside: \nCall (920) 254-5241\nor Email agilbert@encorecares.com
URL:https://dementiacaresolutions.org/event/sheboygan-navigate-the-difficult-conversations-with-compassion-and-clarity/
LOCATION:Countryside Manor\, 4228 Kadlec Dr\, Sheboygan\, WI\, 53083\, United States
ATTACH;FMTTYPE=image/png:https://dementiacaresolutions.org/wp-content/uploads/2025/05/0625_CountrysideManor_SF_Page_2.png
END:VEVENT
END:VCALENDAR