BEGIN:VCALENDAR
VERSION:2.0
PRODID:-//Dementia Care Solutions - ECPv6.15.11//NONSGML v1.0//EN
CALSCALE:GREGORIAN
METHOD:PUBLISH
X-WR-CALNAME:Dementia Care Solutions
X-ORIGINAL-URL:https://dementiacaresolutions.org
X-WR-CALDESC:Events for Dementia Care Solutions
REFRESH-INTERVAL;VALUE=DURATION:PT1H
X-Robots-Tag:noindex
X-PUBLISHED-TTL:PT1H
BEGIN:VTIMEZONE
TZID:America/Chicago
BEGIN:DAYLIGHT
TZOFFSETFROM:-0600
TZOFFSETTO:-0500
TZNAME:CDT
DTSTART:20250309T080000
END:DAYLIGHT
BEGIN:STANDARD
TZOFFSETFROM:-0500
TZOFFSETTO:-0600
TZNAME:CST
DTSTART:20251102T070000
END:STANDARD
BEGIN:DAYLIGHT
TZOFFSETFROM:-0600
TZOFFSETTO:-0500
TZNAME:CDT
DTSTART:20260308T080000
END:DAYLIGHT
BEGIN:STANDARD
TZOFFSETFROM:-0500
TZOFFSETTO:-0600
TZNAME:CST
DTSTART:20261101T070000
END:STANDARD
BEGIN:DAYLIGHT
TZOFFSETFROM:-0600
TZOFFSETTO:-0500
TZNAME:CDT
DTSTART:20270314T080000
END:DAYLIGHT
BEGIN:STANDARD
TZOFFSETFROM:-0500
TZOFFSETTO:-0600
TZNAME:CST
DTSTART:20271107T070000
END:STANDARD
END:VTIMEZONE
BEGIN:VEVENT
DTSTART;VALUE=DATE:20260311
DTEND;VALUE=DATE:20260501
DTSTAMP:20260420T063928
CREATED:20260311T221449Z
LAST-MODIFIED:20260311T222014Z
UID:3492-1773187200-1777593599@dementiacaresolutions.org
SUMMARY:The Fish Approach Academy
DESCRIPTION:Introducing the FISH Approach\n“People with dementia are like fish in the water. Those of us with healthy brains\, we are up here on land. To truly connect\, we need to meet them where they are.” \n\n🔹 Understand the skills they still have\n🔹 Learn how to communicate with less frustration\n🔹 Build a strong care team for long-term support\n🔹 Create a care plan that fosters trust\, joy\, and connection\nThe real value\, the THING that is going to create change is coaching.\n🔹 Gain access to LIVE VIRTUAL GROUP coaching to practice what you have learned in the workshop.\n\n\nLearn More\n  \nAccess Your Complimentary Video Now
URL:https://dementiacaresolutions.org/event/the-fish-approach-academy/
LOCATION:Virtual
ATTACH;FMTTYPE=image/png:https://dementiacaresolutions.org/wp-content/uploads/2026/03/FB-2.png
END:VEVENT
BEGIN:VEVENT
DTSTART;TZID=America/Chicago:20260326T090000
DTEND;TZID=America/Chicago:20260326T100000
DTSTAMP:20260420T063928
CREATED:20251222T200406Z
LAST-MODIFIED:20251222T200406Z
UID:3429-1774515600-1774519200@dementiacaresolutions.org
SUMMARY:ASHWAUBENON - Balancing Risk and Independence
DESCRIPTION:Balancing Risk & Independence in Dementia Care\nWhen should they stop driving? How do I keep them from leaving home unexpectedly? When do I need to look for a facility? These questions and more are explored as we talk about maintaining independence and evaluating risk in the day-to-day for people living with dementia. \nFree community series sponsored by: Ashwaubenon Community Center \nRSVP with Rebecca at Ashwaubenon Community Center (920) 492-2331\nFlyer\n\nOther Upcoming Events:\nOur Aging and Changing Brains: Thurs 1/29 from 9-10am \nProgression of Dementia: Thurs 2/26 from 9-10am \nBalancing Risk and Independence: Thurs 3/26 from 9-10am \nThe Language of Dementia and Finding Success with the Fish Approach: Thurs 4/30 from 9-10am \n 
URL:https://dementiacaresolutions.org/event/ashwaubenon-balancing-risk-and-independence/
LOCATION:Ashwaubenon Community Center\, 900 Anderson Dr\, Green Bay\, WI\, 54304\, United States
ATTACH;FMTTYPE=image/png:https://dementiacaresolutions.org/wp-content/uploads/2025/12/2026_AshwaubenonCommCtr_Jan-Apr.png
END:VEVENT
END:VCALENDAR