BEGIN:VCALENDAR
VERSION:2.0
PRODID:-//Dementia Care Solutions - ECPv6.15.11//NONSGML v1.0//EN
CALSCALE:GREGORIAN
METHOD:PUBLISH
X-ORIGINAL-URL:https://dementiacaresolutions.org
X-WR-CALDESC:Events for Dementia Care Solutions
REFRESH-INTERVAL;VALUE=DURATION:PT1H
X-Robots-Tag:noindex
X-PUBLISHED-TTL:PT1H
BEGIN:VTIMEZONE
TZID:America/Chicago
BEGIN:DAYLIGHT
TZOFFSETFROM:-0600
TZOFFSETTO:-0500
TZNAME:CDT
DTSTART:20240310T080000
END:DAYLIGHT
BEGIN:STANDARD
TZOFFSETFROM:-0500
TZOFFSETTO:-0600
TZNAME:CST
DTSTART:20241103T070000
END:STANDARD
BEGIN:DAYLIGHT
TZOFFSETFROM:-0600
TZOFFSETTO:-0500
TZNAME:CDT
DTSTART:20250309T080000
END:DAYLIGHT
BEGIN:STANDARD
TZOFFSETFROM:-0500
TZOFFSETTO:-0600
TZNAME:CST
DTSTART:20251102T070000
END:STANDARD
BEGIN:DAYLIGHT
TZOFFSETFROM:-0600
TZOFFSETTO:-0500
TZNAME:CDT
DTSTART:20260308T080000
END:DAYLIGHT
BEGIN:STANDARD
TZOFFSETFROM:-0500
TZOFFSETTO:-0600
TZNAME:CST
DTSTART:20261101T070000
END:STANDARD
END:VTIMEZONE
BEGIN:VEVENT
DTSTART;TZID=America/Chicago:20250218T140000
DTEND;TZID=America/Chicago:20250218T150000
DTSTAMP:20260423T060721
CREATED:20241219T152917Z
LAST-MODIFIED:20250130T225306Z
UID:2578-1739887200-1739890800@dementiacaresolutions.org
SUMMARY:GREEN BAY - Balancing Risk and Independence
DESCRIPTION:Balancing Risk & Independence in Dementia Care\nTue\, Feb 18\, 2025 from 2-3PM | Refreshments Provided \nWhen should they stop driving? How do I keep them from leaving home unexpectedly? When do I need to look for a facility? These questions and more are explored as we talk about maintaining independence and evaluating risk in the day-to-day for people living with dementia. \n\n\n\n\n\n\n\n\n\n\n\n\nFree community series sponsored by: Caretta Bellevue \nRSVP (920) 504-3443 RSVP\nFlyer coming soon!
URL:https://dementiacaresolutions.org/event/caretta-balance-risk-feb-18/
LOCATION:Caretta Senior Living\, 1780 Servant Way\, Green Bay\, WI\, 54311\, United States
ATTACH;FMTTYPE=image/png:https://dementiacaresolutions.org/wp-content/uploads/2024/12/021825_CarettaBellevue_BalanceRisk.png
END:VEVENT
BEGIN:VEVENT
DTSTART;TZID=America/Chicago:20250220T103000
DTEND;TZID=America/Chicago:20250220T113000
DTSTAMP:20260423T060721
CREATED:20240725T160641Z
LAST-MODIFIED:20240725T160641Z
UID:2315-1740047400-1740051000@dementiacaresolutions.org
SUMMARY:GREEN BAY - Understanding and Responding to Expressions of Unmet Needs
DESCRIPTION:A-B-C- “All Behavior is Communication”\nWe all express our needs through words or actions. When dementia is in the picture\, it can be harder to find the right\, or any\, words to communicate unmet needs. As care partners\, we need to get curious about what people living with brain change are trying to express. \nWhat unmet need can we help to meet? In this workshop we discuss the tools we need to better respond to expressions. \nRSVP with Curative: (920) 593-3575\nFlyer
URL:https://dementiacaresolutions.org/event/green-bay-understanding-and-responding-to-expressions-of-unmet-needs/
LOCATION:Curative Connections\, 2900 Curry Lane\, Green Bay\, WI\, 54311\, United States
ATTACH;FMTTYPE=image/png:https://dementiacaresolutions.org/wp-content/uploads/2024/07/022025_CurativeConnections_UnmetNeeds.png
END:VEVENT
END:VCALENDAR