BEGIN:VCALENDAR
VERSION:2.0
PRODID:-//Dementia Care Solutions - ECPv6.15.11//NONSGML v1.0//EN
CALSCALE:GREGORIAN
METHOD:PUBLISH
X-WR-CALNAME:Dementia Care Solutions
X-ORIGINAL-URL:https://dementiacaresolutions.org
X-WR-CALDESC:Events for Dementia Care Solutions
REFRESH-INTERVAL;VALUE=DURATION:PT1H
X-Robots-Tag:noindex
X-PUBLISHED-TTL:PT1H
BEGIN:VTIMEZONE
TZID:America/Chicago
BEGIN:DAYLIGHT
TZOFFSETFROM:-0600
TZOFFSETTO:-0500
TZNAME:CDT
DTSTART:20240310T080000
END:DAYLIGHT
BEGIN:STANDARD
TZOFFSETFROM:-0500
TZOFFSETTO:-0600
TZNAME:CST
DTSTART:20241103T070000
END:STANDARD
BEGIN:DAYLIGHT
TZOFFSETFROM:-0600
TZOFFSETTO:-0500
TZNAME:CDT
DTSTART:20250309T080000
END:DAYLIGHT
BEGIN:STANDARD
TZOFFSETFROM:-0500
TZOFFSETTO:-0600
TZNAME:CST
DTSTART:20251102T070000
END:STANDARD
BEGIN:DAYLIGHT
TZOFFSETFROM:-0600
TZOFFSETTO:-0500
TZNAME:CDT
DTSTART:20260308T080000
END:DAYLIGHT
BEGIN:STANDARD
TZOFFSETFROM:-0500
TZOFFSETTO:-0600
TZNAME:CST
DTSTART:20261101T070000
END:STANDARD
END:VTIMEZONE
BEGIN:VEVENT
DTSTART;TZID=America/Chicago:20250603T130000
DTEND;TZID=America/Chicago:20250603T140000
DTSTAMP:20260420T224718
CREATED:20250507T172536Z
LAST-MODIFIED:20250523T181859Z
UID:3042-1748955600-1748959200@dementiacaresolutions.org
SUMMARY:SHEBOYGAN - Navigate the Difficult Conversations with Compassion and Clarity
DESCRIPTION:Navigate the Difficult Conversations with Compassion and Clarity\nTues\, June 3\, 2025 from 1-2pm | Refreshments and tours offered. \n“I’m worried about decisions my wife is making\, but when I try to talk to her it goes all wrong.” \nDiscover practical strategies for how to have sensitive discussions – from address safety concerns to changes in routine to difficult emotions – with empathy\, and patience. Learn how to manage misunderstandings and foster connection even as memories fade. \n\n\n\n\n\n\n\n\n\n\n\n\nFree community series sponsored by: Countryside Manor \n*NOTE: Audrey’s last day with Dementia Care Solutions was Fri\, May 23\, but rest assured\, the event is on and we will still be presenting! \nRSVP with Alex at Countryside: \nCall (920) 254-5241\nor Email agilbert@encorecares.com
URL:https://dementiacaresolutions.org/event/sheboygan-navigate-the-difficult-conversations-with-compassion-and-clarity/
LOCATION:Countryside Manor\, 4228 Kadlec Dr\, Sheboygan\, WI\, 53083\, United States
ATTACH;FMTTYPE=image/png:https://dementiacaresolutions.org/wp-content/uploads/2025/05/0625_CountrysideManor_SF_Page_2.png
END:VEVENT
BEGIN:VEVENT
DTSTART;TZID=America/Chicago:20250604T120000
DTEND;TZID=America/Chicago:20250604T160000
DTSTAMP:20260420T224718
CREATED:20250507T160221Z
LAST-MODIFIED:20250507T160221Z
UID:3024-1749038400-1749052800@dementiacaresolutions.org
SUMMARY:HUDSON - 2nd Annual Caregiver Conference
DESCRIPTION:2nd Annual Caregiver Conference\nWednesday\, June 4\, 2025 from 12-4pm | Refreshments will be provided \nRegistration Now Open!\nJoin us for the 2nd Annual Dementia Caregivers Conference on Wednesday\, June 4th!\nAfter an incredible first year\, we are thrilled to welcome back Sheri Fairman\, Certified Teepa Snow Trainer\, to build on the knowledge and support we shared in 2024. This event is designed to empower and educate those caring for loved ones with dementia\, offering practical strategies and fresh perspectives to navigate the journey ahead.\n\nThis free event promises an afternoon filled with enriching discussions and expert insights.\nLocation: Marie B. Blakeman Community Center1320 Wisconsin St.\, Hudson\, WI\n*Free Community Education Event**Registration Required – Seating is Limited*\nTo RegisterCall: 715-629-1888 or Email: a.bettinger@adoray.org\n\n\n\n\n\n\n\n\n\n\n\n\nFree community event sponsored by: Adoray Home Health & Hospice\, along with our partners in care\, Western Wisconsin Health and the St. Croix Valley Dementia Coalition\,  \nRSVP with Adoray (715) 629-1888\n 
URL:https://dementiacaresolutions.org/event/hudson-2nd-annual-caregiver-conference/
LOCATION:Marie B. Blakeman Community Center\, 1320 Wisconsin St\, Hudson\, WI\, 54016\, United States
ATTACH;FMTTYPE=image/jpeg:https://dementiacaresolutions.org/wp-content/uploads/2025/05/DementiaCaregiversConf_2025.jpg
END:VEVENT
BEGIN:VEVENT
DTSTART;TZID=America/Chicago:20250605T153000
DTEND;TZID=America/Chicago:20250605T163000
DTSTAMP:20260420T224718
CREATED:20250529T213036Z
LAST-MODIFIED:20250529T213036Z
UID:3089-1749137400-1749141000@dementiacaresolutions.org
SUMMARY:WEST BEND - The Language of Dementia and Finding Success: The Fish Approach
DESCRIPTION:The Language of Dementia and Finding Success: This Fish Approach\nThursday\, June 5 – at 3:30pm \nAs care partners\, we can find ourselves in communication snags with our loved one with dementia.\nTogether we will untangle these challenging situations and explore new tools to help in your caregiving journey. \nFree community series sponsored by: Cedar Community \nFlyer\nRSVP with Lindsay at Cedar Community today! \nCall (262) 365-6601\nOr email lsauer@cedarcommunity.org\n 
URL:https://dementiacaresolutions.org/event/west-bend-the-language-of-dementia-and-finding-success-the-fish-approach/
LOCATION:Cedar Run Campus\, 6090 Scenic Dr\, West Bend\, WI\, 53095\, United States
ATTACH;FMTTYPE=image/png:https://dementiacaresolutions.org/wp-content/uploads/2025/05/060525_TheCottagesWestBend_FishApproach.png
END:VEVENT
BEGIN:VEVENT
DTSTART;TZID=America/Chicago:20250610T103000
DTEND;TZID=America/Chicago:20250610T113000
DTSTAMP:20260420T224718
CREATED:20250516T004316Z
LAST-MODIFIED:20250516T005538Z
UID:3054-1749551400-1749555000@dementiacaresolutions.org
SUMMARY:MANITOWOC - Our Aging and Changing Brain
DESCRIPTION:Our Aging Brain: What is Typical? When to be Concerned?\nTues\, June 10\, 2025 from 10:30-11:30am \nWhat is normal and when should we be concerned?\nIf thinking and memory problems arise\, can it be something reversible? YES! \nJoin us to find out more about the causes of these symptoms\, what you can do to improve them\, and how to know if it’s something more serious. \n\n\n\n\n\n\n\n\n\n\n\n\nFree community series sponsored by: Felician Sisters \nLUNCH AVAILABLE for purchase (dine-in or take-out) from 10:30-1:30pm at Felician Village Cafe. \n$8 includes brat or burger\, baked beans\, chips\, and a cookie. Proceeds to benefit Felician Village Walk to End Alzheimer’s Team. \nRSVPs appreciated (920) 684-7171\nRSVP by Email\nFlyer
URL:https://dementiacaresolutions.org/event/manitowoc-our-aging-brain/
LOCATION:Felician Village\, 1635 S. 21st St\, Manitowoc\, WI\, 54220\, United States
ATTACH;FMTTYPE=image/png:https://dementiacaresolutions.org/wp-content/uploads/2025/05/061025_FelicianVillage_AgingBrain.png
END:VEVENT
BEGIN:VEVENT
DTSTART;TZID=America/Chicago:20250610T130000
DTEND;TZID=America/Chicago:20250610T140000
DTSTAMP:20260420T224718
CREATED:20250507T165842Z
LAST-MODIFIED:20250523T181855Z
UID:3037-1749560400-1749564000@dementiacaresolutions.org
SUMMARY:SHEBOYGAN - Navigate the Move to Memory Care with Confidence and Grace
DESCRIPTION:Navigate the Move to Memory Care with Confidence and Grace\nTues\, June 10\, 2025 from 1-2pm | Refreshments and tours offered. \n“What is my role now that dad is living in a memory care community?” \nTransitioning a loved one to residential memory care can bring emotional and practical challenges. Discuss how to address feelings of guilt and relief\, adjust to a new lifestyle\, interact with the care team\, and manage other questions that arise. \n\n\n\n\n\n\n\n\n\n\n\n\nFree community series sponsored by: Countryside Manor \n*NOTE: Audrey’s last day with Dementia Care Solutions was Fri\, May 23\, but rest assured\, the event is on and we will still be presenting! \nRSVP with Alex at Countryside: \nCall (920) 254-5241\nor Email agilbert@encorecares.com
URL:https://dementiacaresolutions.org/event/3037/
LOCATION:Countryside Manor\, 4228 Kadlec Dr\, Sheboygan\, WI\, 53083\, United States
ATTACH;FMTTYPE=image/png:https://dementiacaresolutions.org/wp-content/uploads/2025/05/0625_CountrysideManor_SF_Page_2.png
END:VEVENT
BEGIN:VEVENT
DTSTART;TZID=America/Chicago:20250611T130000
DTEND;TZID=America/Chicago:20250611T140000
DTSTAMP:20260420T224718
CREATED:20250507T162045Z
LAST-MODIFIED:20250507T162045Z
UID:3029-1749646800-1749650400@dementiacaresolutions.org
SUMMARY:GREEN BAY - Balancing Risk and Independence
DESCRIPTION:Balancing Risk & Independence in Dementia Care\nWed\, June 11 from 1-2pm \nWhen should they stop driving? How do I keep them from leaving home unexpectedly? When do I need to look for a facility? These questions and more are explored as we talk about maintaining independence and evaluating risk in the day-to-day for people living with dementia. \n  \n\n\n\n\n\n\n\n\n\n\n\n\nFree community series sponsored by: Oak Park Place \nRSVP with Oak Park Place (920) 702-0000\nFlyer \n 
URL:https://dementiacaresolutions.org/event/green-bay-balancing-risk-and-independence/
LOCATION:Oak Park Place – Green Bay\, 421 Erie Rd\, Green Bay\, WI\, 54311\, United States
ATTACH;FMTTYPE=image/png:https://dementiacaresolutions.org/wp-content/uploads/2025/05/061125_OakParkPlaceGB_BalanceRisk_SF.png
END:VEVENT
BEGIN:VEVENT
DTSTART;TZID=America/Chicago:20250611T140000
DTEND;TZID=America/Chicago:20250611T150000
DTSTAMP:20260420T224718
CREATED:20250131T015906Z
LAST-MODIFIED:20250523T181850Z
UID:2659-1749650400-1749654000@dementiacaresolutions.org
SUMMARY:BURLINGTON- Language of Dementia (3-Part Series\, #3)
DESCRIPTION:Part 3: The Language of Dementia and Finding Success: The Fish Approach\nWed\, June 11 from 2-3PM \n\n\n\n\n\n\nAs care partners\, we may experience communication snags with our loved one with dementia. Together we will untangle these challenging situations and explore new tools to help in your caregiving journey. \n\n\n\n\n\n\n\n\n\n\n\nFlyer\n\n\n\n\n\n——-Free community series sponsored by: Oak Park Place Burlington \nCannot attend all three? By RSVPing\, you are signed up for all three events in this series\, but you are not required to attend all of them. \nRSVP with Oak Park Place Burlington:\nCall (262) 758-6782 or Email burlingtonsales@oakparkplace.com \n  \n*NOTE: Audrey’s last day with Dementia Care Solutions was Fri\, May 23\, but rest assured\, the event is on and we will still be presenting! \n\n  \nPart 1: Our Aging Brain: What is Typical? When to be Concerned?\nWed\, Apr 9 from 2-3PM \nWhat is normal and when should we be concerned?\nIf thinking and memory problems arise\, can it be something reversible? YES! \nJoin us to find out more about the causes of these symptoms\, what you can do to improve them\, and how to know if it’s something more serious. \nFlyer\n\nPart 2: Progression of Dementia – What Skills Remain\nWed\, May 14 from 2-3PM \nLearn a new and improved approach to understanding dementia progression through focusing on what skills remain\, as opposed to skills lost. Gain insight into what a person with memory loss experiences and discover how to better support your loved one. \nFlyer
URL:https://dementiacaresolutions.org/event/burlington-our-aging-brain-3-part-series-3/
LOCATION:Oak Park Place – Burlington\, 1700 S. Teut Road\, Burlington\, WI\, 53105\, United States
ATTACH;FMTTYPE=image/png:https://dementiacaresolutions.org/wp-content/uploads/2025/01/061125_OakParkBurlington_Fish.png
END:VEVENT
BEGIN:VEVENT
DTSTART;TZID=America/Chicago:20250612T100000
DTEND;TZID=America/Chicago:20250612T110000
DTSTAMP:20260420T224718
CREATED:20250603T214153Z
LAST-MODIFIED:20250603T214153Z
UID:3100-1749722400-1749726000@dementiacaresolutions.org
SUMMARY:(FREE 3-Part) APPLETON - Dementia Care Series: Part 1 - Changing Relationships
DESCRIPTION:A THREE-PART SPEAKER SERIES\nDementia Wellness & Wisdom\nJoin us at Touchmark on West Prospect for an informative and supportive series focused on dementia care\, relationships\, and self-care for caregivers.\nA continental breakfast is included at each event. \nThe Changing Relationship: When Dementia is in the Picture\nThursday\, June 12 at 10 am • Chapel \nRelationships inevitably change as dementia progresses. This can be devastating and challenging as you roll through the stages of grief.\nLet’s talk about the changing relationship\, what is normal\, and what can be better. \nUnderstand how relationships evolve through the stages of dementia—and how preparation leads to thriving\, not just surviving. \nFree community series sponsored by: Touchmark on West Prospect \nCall to RSVP: (920) 832-9100\nFlyer \n\nPART 2: Balancing Risk and Independence in Dementia Care\nThursday\, July 10 at 10 am • Chapel \n—— \nPART 3: Caring for Yourself Through the Dementia Journey\nThursday\, August 14 at 10 am • Chapel
URL:https://dementiacaresolutions.org/event/free-3-part-appleton-dementia-care-series-part-1-changing-relationships/
LOCATION:Touchmark on West Prospect\, 2601 Touchmark Dr\, Appleton\, WI\, 54914\, United States
ATTACH;FMTTYPE=image/png:https://dementiacaresolutions.org/wp-content/uploads/2025/06/061225_WellnessWisdomDementiaSeries.png
END:VEVENT
BEGIN:VEVENT
DTSTART;TZID=America/Chicago:20250616T130000
DTEND;TZID=America/Chicago:20250616T140000
DTSTAMP:20260420T224718
CREATED:20250507T164756Z
LAST-MODIFIED:20250507T164756Z
UID:3033-1750078800-1750082400@dementiacaresolutions.org
SUMMARY:MANITOWOC - Language of Dementia
DESCRIPTION:The Language of Dementia and Finding Success: The Fish Approach\nMonday\, June 16 from 1-2PM \n\n\n\n\n\n\nAs care partners\, we may experience communication snags with our loved one with dementia. Together we will untangle these challenging situations and explore new tools to help in your caregiving journey. \n\n\n\n\n\n\n\n\n\n\n\nFlyer\n\n\n\n\n\n——-Free community series sponsored by: Jay’s Legacy Home Care \nRSVP with Jay’s Legacy Home Care by 6/10:\nCall (920) 901-7780 \n 
URL:https://dementiacaresolutions.org/event/manitowoc-language-of-dementia/
LOCATION:Manitowoc Senior Center\, 3330 Custer St\, Manitowoc\, WI\, 54220\, United States
ATTACH;FMTTYPE=image/png:https://dementiacaresolutions.org/wp-content/uploads/2025/05/061625_ManitowocSeniorCenter_JaysLegacy_LangofDementia_SF.png
END:VEVENT
END:VCALENDAR