BEGIN:VCALENDAR
VERSION:2.0
PRODID:-//Dementia Care Solutions - ECPv6.15.11//NONSGML v1.0//EN
CALSCALE:GREGORIAN
METHOD:PUBLISH
X-WR-CALNAME:Dementia Care Solutions
X-ORIGINAL-URL:https://dementiacaresolutions.org
X-WR-CALDESC:Events for Dementia Care Solutions
REFRESH-INTERVAL;VALUE=DURATION:PT1H
X-Robots-Tag:noindex
X-PUBLISHED-TTL:PT1H
BEGIN:VTIMEZONE
TZID:America/Chicago
BEGIN:DAYLIGHT
TZOFFSETFROM:-0600
TZOFFSETTO:-0500
TZNAME:CDT
DTSTART:20240310T080000
END:DAYLIGHT
BEGIN:STANDARD
TZOFFSETFROM:-0500
TZOFFSETTO:-0600
TZNAME:CST
DTSTART:20241103T070000
END:STANDARD
BEGIN:DAYLIGHT
TZOFFSETFROM:-0600
TZOFFSETTO:-0500
TZNAME:CDT
DTSTART:20250309T080000
END:DAYLIGHT
BEGIN:STANDARD
TZOFFSETFROM:-0500
TZOFFSETTO:-0600
TZNAME:CST
DTSTART:20251102T070000
END:STANDARD
BEGIN:DAYLIGHT
TZOFFSETFROM:-0600
TZOFFSETTO:-0500
TZNAME:CDT
DTSTART:20260308T080000
END:DAYLIGHT
BEGIN:STANDARD
TZOFFSETFROM:-0500
TZOFFSETTO:-0600
TZNAME:CST
DTSTART:20261101T070000
END:STANDARD
END:VTIMEZONE
BEGIN:VEVENT
DTSTART;TZID=America/Chicago:20250701T120000
DTEND;TZID=America/Chicago:20250701T160000
DTSTAMP:20260420T204355
CREATED:20250527T191238Z
LAST-MODIFIED:20250527T191238Z
UID:3083-1751371200-1751385600@dementiacaresolutions.org
SUMMARY:GREEN BAY- Dementia Care Champion Courses
DESCRIPTION:The Champion Courses are designed to guide care partners in developing an awareness about how brain changes impact people’s everyday experiences and how our approach impacts this experience. In this workshop\, we will explore the role of the care partner in enhancing the quality of life for people living with dementia. By building skills specifically to meet the needs of the person we are providing cares with\, we enhance the experience for staff and the person living with dementia. \nFree community series sponsored by: Curative Connections \nRSVP for this 2-Day Series Today! \nCall (920) 468-1161\nFlyer \n———– \nChampion Course: Course 1\nTuesday\, July 1st from 12-2pm\nExplore the parts of the brain\, understand what each part is responsible for\, and practice the skills needed to successfully approach and provide care. \n———– \nCourse 2\nTuesday\, July 1st from 2-4pm \nThis skill building workshop focuses on Teepa Snow’s HUH™ approach to care. How can we support people living with dementia to walk\, eat\, brush their teeth\, and more. \n———– \nCourse 3\nTuesday\, July 8th from 12-2pm \nLearn about Teepa Snow’s GEMS™ State Model paired with skill building opportunities to shift our approach and care specific to the GEM ™ State of the person living with dementia. \n———– \nCourse 4\nTuesday\, July 8th from 2-4pm\nThis workshop explores the importance of dynamic assessment and supports learners in identifying the GEM state of the person living with dementia.
URL:https://dementiacaresolutions.org/event/green-bay-dementia-care-champion-courses/
LOCATION:Curative Connections\, 2900 Curry Lane\, Green Bay\, WI\, 54311\, United States
ATTACH;FMTTYPE=image/png:https://dementiacaresolutions.org/wp-content/uploads/2025/05/0725_Curative_CC_Public.png
END:VEVENT
BEGIN:VEVENT
DTSTART;TZID=America/Chicago:20250710T100000
DTEND;TZID=America/Chicago:20250710T110000
DTSTAMP:20260420T204355
CREATED:20250617T201618Z
LAST-MODIFIED:20250617T201935Z
UID:3141-1752141600-1752145200@dementiacaresolutions.org
SUMMARY:APPLETON - Balancing Risk and Independence
DESCRIPTION:A THREE-PART SPEAKER SERIES\nDementia Wellness & Wisdom\nJoin us at Touchmark on West Prospect for an informative and supportive series focused on dementia care\, relationships\, and self-care for caregivers.\nA continental breakfast is included at each event. \nPART 2: Balancing Risk and Independence in Dementia Care\nThursday\, July 10 at 10 am • Chapel \nWhen should they stop driving? How do I keep them from leaving home unexpectedly? When do I need to look for a facility? These questions and more are explored as we talk about maintaining independence and evaluating risk in the day-to-day for people living with dementia. \n—— \nFree community series sponsored by: Touchmark on West Prospect \nCall to RSVP: (920) 832-9100\nFlyer \n\n  \nPART 3: Caring for Yourself Through the Dementia Journey\nThursday\, August 14 at 10 am • Chapel \n 
URL:https://dementiacaresolutions.org/event/appleton-balancing-risk-and-independence/
LOCATION:Touchmark on West Prospect\, 2601 Touchmark Dr\, Appleton\, WI\, 54914\, United States
ATTACH;FMTTYPE=image/png:https://dementiacaresolutions.org/wp-content/uploads/2025/06/WellnessWisdomDementiaSeriesJuly.png
END:VEVENT
END:VCALENDAR