BEGIN:VCALENDAR
VERSION:2.0
PRODID:-//Dementia Care Solutions - ECPv6.15.11//NONSGML v1.0//EN
CALSCALE:GREGORIAN
METHOD:PUBLISH
X-WR-CALNAME:Dementia Care Solutions
X-ORIGINAL-URL:https://dementiacaresolutions.org
X-WR-CALDESC:Events for Dementia Care Solutions
REFRESH-INTERVAL;VALUE=DURATION:PT1H
X-Robots-Tag:noindex
X-PUBLISHED-TTL:PT1H
BEGIN:VTIMEZONE
TZID:America/Chicago
BEGIN:DAYLIGHT
TZOFFSETFROM:-0600
TZOFFSETTO:-0500
TZNAME:CDT
DTSTART:20240310T080000
END:DAYLIGHT
BEGIN:STANDARD
TZOFFSETFROM:-0500
TZOFFSETTO:-0600
TZNAME:CST
DTSTART:20241103T070000
END:STANDARD
BEGIN:DAYLIGHT
TZOFFSETFROM:-0600
TZOFFSETTO:-0500
TZNAME:CDT
DTSTART:20250309T080000
END:DAYLIGHT
BEGIN:STANDARD
TZOFFSETFROM:-0500
TZOFFSETTO:-0600
TZNAME:CST
DTSTART:20251102T070000
END:STANDARD
BEGIN:DAYLIGHT
TZOFFSETFROM:-0600
TZOFFSETTO:-0500
TZNAME:CDT
DTSTART:20260308T080000
END:DAYLIGHT
BEGIN:STANDARD
TZOFFSETFROM:-0500
TZOFFSETTO:-0600
TZNAME:CST
DTSTART:20261101T070000
END:STANDARD
END:VTIMEZONE
BEGIN:VEVENT
DTSTART;TZID=America/Chicago:20251210T133000
DTEND;TZID=America/Chicago:20251210T143000
DTSTAMP:20260420T104410
CREATED:20251119T172343Z
LAST-MODIFIED:20251119T172437Z
UID:3403-1765373400-1765377000@dementiacaresolutions.org
SUMMARY:SHAWANO - Our Aging and Changing Brain
DESCRIPTION:Our Aging and Changing Brains: What is Typical? When to be Concerned?\nWhat is normal and when should we be concerned?\nIf thinking and memory problems arise\, can it be something reversible? YES! \nJoin us to find out more about the causes of these symptoms\, what you can do to improve them\, and how to know if it’s something more serious. \n\n\n\n\n\n\n\n\n\n\n\n\nFree community series sponsored by: Shawano Place Senior Living \nRSVP with Shawano Place (920) 416-2522\nFlyer
URL:https://dementiacaresolutions.org/event/shawano-our-aging-and-changing-brain/
LOCATION:Shawano Place\, 1088 Engel Drive\, Shawano\, WI\, 54166\, United States
ATTACH;FMTTYPE=image/png:https://dementiacaresolutions.org/wp-content/uploads/2025/11/12102025_ShawanoEvents.png
END:VEVENT
BEGIN:VEVENT
DTSTART;TZID=America/Chicago:20251218T133000
DTEND;TZID=America/Chicago:20251218T143000
DTSTAMP:20260420T104410
CREATED:20251001T214745Z
LAST-MODIFIED:20251001T214745Z
UID:3372-1766064600-1766068200@dementiacaresolutions.org
SUMMARY:SHAWANO- Language of Dementia
DESCRIPTION:The Language of Dementia and Finding Success: The Fish Approach\nThursday\, Dec 18 from 1:30-2:30PM \n\n\n\n\n\n\nAs caregivers\, we often have snags in our conversations with loved ones living with brain changes. Let’s come together to unravel these tricky situations and discover effective tools that will help on your caregiving journey. Join us and empower yourself! \n\n\n\n\n\n\n\n\n\n\n\nFlyer\n\n\n\n\n\n——-This opportunity is hosted by the Hope Church Support Group and is FREE for participants thanks to the generous sponsor of The Cottages. \nNo RSVP necessary\, we hope to see you there!
URL:https://dementiacaresolutions.org/event/shawano-language-of-dementia/
LOCATION:The Cottages at Golden Pond\, 103 Madison Way\, Shawano\, WI\, 54166\, United States
ATTACH;FMTTYPE=image/png:https://dementiacaresolutions.org/wp-content/uploads/2025/10/121825_LangofDementia_CottagesGoldenPond_Shawano.png
END:VEVENT
BEGIN:VEVENT
DTSTART;TZID=America/Chicago:20251219T100000
DTEND;TZID=America/Chicago:20251219T110000
DTSTAMP:20260420T104410
CREATED:20251124T220832Z
LAST-MODIFIED:20251124T220832Z
UID:3419-1766138400-1766142000@dementiacaresolutions.org
SUMMARY:Grief and Ambiguous Loss in Caregiving
DESCRIPTION:Grief and Ambiguous Loss in Caregiving\nThe loss of a loved one shows up in many ways.\n\nWhether it happens suddenly or unfolds slowly over time\, grief is deeply personal—and no two people experience it the same.\nWhen a loss comes without closure or clear resolution\, the grieving process becomes even more complex.\nIn this presentation\, we’ll take a closer look at ambiguous loss—and what it means specifically for care partners supporting someone living with dementia.\n\n\n\n\n\n\n\n\n\n\n\n\n\nDetails coming soon….
URL:https://dementiacaresolutions.org/event/grief-and-ambiguous-loss-in-caregiving/
LOCATION:Touchmark on West Prospect\, 2601 Touchmark Dr\, Appleton\, WI\, 54914\, United States
END:VEVENT
END:VCALENDAR