BEGIN:VCALENDAR
VERSION:2.0
PRODID:-//Dementia Care Solutions - ECPv6.15.11//NONSGML v1.0//EN
CALSCALE:GREGORIAN
METHOD:PUBLISH
X-WR-CALNAME:Dementia Care Solutions
X-ORIGINAL-URL:https://dementiacaresolutions.org
X-WR-CALDESC:Events for Dementia Care Solutions
REFRESH-INTERVAL;VALUE=DURATION:PT1H
X-Robots-Tag:noindex
X-PUBLISHED-TTL:PT1H
BEGIN:VTIMEZONE
TZID:America/Chicago
BEGIN:DAYLIGHT
TZOFFSETFROM:-0600
TZOFFSETTO:-0500
TZNAME:CDT
DTSTART:20250309T080000
END:DAYLIGHT
BEGIN:STANDARD
TZOFFSETFROM:-0500
TZOFFSETTO:-0600
TZNAME:CST
DTSTART:20251102T070000
END:STANDARD
BEGIN:DAYLIGHT
TZOFFSETFROM:-0600
TZOFFSETTO:-0500
TZNAME:CDT
DTSTART:20260308T080000
END:DAYLIGHT
BEGIN:STANDARD
TZOFFSETFROM:-0500
TZOFFSETTO:-0600
TZNAME:CST
DTSTART:20261101T070000
END:STANDARD
BEGIN:DAYLIGHT
TZOFFSETFROM:-0600
TZOFFSETTO:-0500
TZNAME:CDT
DTSTART:20270314T080000
END:DAYLIGHT
BEGIN:STANDARD
TZOFFSETFROM:-0500
TZOFFSETTO:-0600
TZNAME:CST
DTSTART:20271107T070000
END:STANDARD
END:VTIMEZONE
BEGIN:VEVENT
DTSTART;TZID=America/Chicago:20260625T130000
DTEND;TZID=America/Chicago:20260625T150000
DTSTAMP:20260420T060921
CREATED:20260407T181241Z
LAST-MODIFIED:20260407T181241Z
UID:3535-1782392400-1782399600@dementiacaresolutions.org
SUMMARY:FITCHBURG - Progression of Dementia and What Skills Remain
DESCRIPTION:Progression of Dementia – What Skills Remain\nOften the progression of dementia is measured in stages that focuses on what skills are lost. This approach does not give us tools to help provide care and support. Instead\, we will look at what skills remain and shift our support accordingly by using Teepa Snow’s GEMS State Model. \n  \n\n\n\n\n\n\n\n\n\n\n\nFree community series sponsored by: The Courtyard at Fitchburg Assisted Living & Memory Care \nRSVP with Sarah Wells at the Courtyard at Fitchburg (608) 886-6711\nOR Email swells@encorecares.com \nFlyer\n\nOther Upcoming Events:\nOur Aging and Changing Brains: Thurs May 28 from 1-3pm \nProgression of Dementia and What Skils Remain: Thurs June 25 from 1-3pm \nThe Language of Dementia and Finding Success with the Fish Approach: Thurs July 30 from 1-3pm
URL:https://dementiacaresolutions.org/event/fitchburg-progression-of-dementia-and-what-skills-remain/
LOCATION:The Courtyard at Fitchburg Assisted Living and Memory Care\, 5669 Wilshire Dr\, Fitchburg\, WI\, 53711\, United States
ATTACH;FMTTYPE=image/png:https://dementiacaresolutions.org/wp-content/uploads/2026/04/062526_CourtyardFitchburg_ProgressionofDem.png
END:VEVENT
END:VCALENDAR